BEGIN:VCALENDAR
VERSION:2.0
PRODID:https://hallennomaden.de/
METHOD:PUBLISH
BEGIN:VEVENT
UID:89D79A5207
ORGANIZER;CN="Ralf Spieth":MAILTO:ralf.spieth@hallennomaden.de
SUMMARY:Vereinsmeisterschaft im Schwimmen (Kartenspiel)
LOCATION:TS
DESCRIPTION:31 ist Trumpf! 
CLASS:PUBLIC
DTSTART:20261003T170000
DTEND:20261003T200000
DTSTAMP:20260424T160238
BEGIN:VALARM
TRIGGER:-PT1440M
ACTION:DISPLAY
DESCRIPTION:Reminder
END:VALARM
END:VEVENT
END:VCALENDAR